BEGIN:VCALENDAR
VERSION:2.0
PRODID:-//Dart Events//EN
CALSCALE:GREGORIAN
BEGIN:VEVENT
UID:381@dart.events
DTSTAMP:20260420T203819Z
SUMMARY:JackRabbit Jamboree
DTSTART;VALUE=DATE:20260424
DTEND;VALUE=DATE:20260426
LOCATION:1600 Thomes Avenue\, Cheyenne\, WY
DESCRIPTION:No description provided.\n\nEvent Details: https://dart.events/event?id=381
URL;VALUE=URI:https://dart.events/event?id=381
END:VEVENT
END:VCALENDAR
